BEGIN:VCALENDAR
VERSION:2.0
PRODID:-//Otto Sunderland - ECPv6.15.17.1//NONSGML v1.0//EN
CALSCALE:GREGORIAN
METHOD:PUBLISH
X-WR-CALNAME:Otto Sunderland
X-ORIGINAL-URL:https://www.ottosunderland.com
X-WR-CALDESC:Events for Otto Sunderland
REFRESH-INTERVAL;VALUE=DURATION:PT1H
X-Robots-Tag:noindex
X-PUBLISHED-TTL:PT1H
BEGIN:VTIMEZONE
TZID:Europe/London
BEGIN:DAYLIGHT
TZOFFSETFROM:+0000
TZOFFSETTO:+0100
TZNAME:BST
DTSTART:20230326T010000
END:DAYLIGHT
BEGIN:STANDARD
TZOFFSETFROM:+0100
TZOFFSETTO:+0000
TZNAME:GMT
DTSTART:20231029T010000
END:STANDARD
BEGIN:DAYLIGHT
TZOFFSETFROM:+0000
TZOFFSETTO:+0100
TZNAME:BST
DTSTART:20240331T010000
END:DAYLIGHT
BEGIN:STANDARD
TZOFFSETFROM:+0100
TZOFFSETTO:+0000
TZNAME:GMT
DTSTART:20241027T010000
END:STANDARD
BEGIN:DAYLIGHT
TZOFFSETFROM:+0000
TZOFFSETTO:+0100
TZNAME:BST
DTSTART:20250330T010000
END:DAYLIGHT
BEGIN:STANDARD
TZOFFSETFROM:+0100
TZOFFSETTO:+0000
TZNAME:GMT
DTSTART:20251026T010000
END:STANDARD
BEGIN:DAYLIGHT
TZOFFSETFROM:+0000
TZOFFSETTO:+0100
TZNAME:BST
DTSTART:20260329T010000
END:DAYLIGHT
BEGIN:STANDARD
TZOFFSETFROM:+0100
TZOFFSETTO:+0000
TZNAME:GMT
DTSTART:20261025T010000
END:STANDARD
END:VTIMEZONE
BEGIN:VEVENT
DTSTART;TZID=Europe/London:20250314T180000
DTEND;TZID=Europe/London:20250314T220000
DTSTAMP:20260425T155028
CREATED:20250314T233758Z
LAST-MODIFIED:20250314T234017Z
UID:1026-1741975200-1741989600@www.ottosunderland.com
SUMMARY:Tobias - Live and Acoustic
DESCRIPTION:Tobias has written a bag full of new tunes that need their cherries popping… and there’s no better place than Otto for such an activity. \nGet yourself down and wrap your ears round some brand new music.
URL:https://www.ottosunderland.com/event/house-proud-2/
ATTACH;FMTTYPE=image/png:https://www.ottosunderland.com/wp-content/uploads/2025/03/tobias-at-otto.png
END:VEVENT
BEGIN:VEVENT
DTSTART;TZID=Europe/London:20241212T180000
DTEND;TZID=Europe/London:20241212T220000
DTSTAMP:20260425T155028
CREATED:20250314T232856Z
LAST-MODIFIED:20250314T232856Z
UID:1021-1734026400-1734040800@www.ottosunderland.com
SUMMARY:Speciality Cheese & Wine Night
DESCRIPTION:Come and join us for a night of Speciality Cheeses from Black’s Corner Deli and natural wines from Fond Wines\, with Kenny & Big Alex. There will be tasting\, trivia\, knowledge and canny crack\, plus some beaut cheeses and wines.
URL:https://www.ottosunderland.com/event/speciality-cheese-wine-night/
ATTACH;FMTTYPE=image/jpeg:https://www.ottosunderland.com/wp-content/uploads/2025/03/otto-sunderland-2.jpg
END:VEVENT
BEGIN:VEVENT
DTSTART;TZID=Europe/London:20241206T180000
DTEND;TZID=Europe/London:20241206T220000
DTSTAMP:20260425T155028
CREATED:20250314T232327Z
LAST-MODIFIED:20250314T232327Z
UID:1020-1733508000-1733522400@www.ottosunderland.com
SUMMARY:Coffee Tasting & Appreciation Night
DESCRIPTION:Come and join us for a canny night of coffee tasting and appreciation with Big Al.
URL:https://www.ottosunderland.com/event/coffee-tasting-appreciation-night/
ATTACH;FMTTYPE=image/webp:https://www.ottosunderland.com/wp-content/uploads/2025/03/big-al-coffee-night.webp
END:VEVENT
BEGIN:VEVENT
DTSTART;TZID=Europe/London:20241129T180000
DTEND;TZID=Europe/London:20241129T220000
DTSTAMP:20260425T155028
CREATED:20250307T134013Z
LAST-MODIFIED:20250307T134013Z
UID:855-1732903200-1732917600@www.ottosunderland.com
SUMMARY:House Proud
DESCRIPTION:Ben and Rory are hitting the decks again over at @ottosunderland this Friday\, come along and loosen them bones n get a few drinks in ya before the main event on December 14th xx
URL:https://www.ottosunderland.com/event/house-proud/
ATTACH;FMTTYPE=image/jpeg:https://www.ottosunderland.com/wp-content/uploads/2025/03/otto-sunderland-events-1.jpg
END:VEVENT
END:VCALENDAR